BEGIN:VCALENDAR
VERSION:2.0
PRODID:-//eventon.com NONSGML v1.0//EN
BEGIN:VEVENT
UID:69e9258e64583
DTSTAMP:20260422T214622
DTSTART:20240601T060000Z
DTEND:20240608T180000Z
LOCATION:Spaanse Pyreneeën 
SUMMARY:Mountain Trail
DESCRIPTION: Telefoon uit\,  wandelschoenen aan. Ontdek de ongerepte Spaanse Pyreneeën met deze meerdaagdse hike. Via fysieke inspanning en gerichte oefeningen ontdek je je eigen pad in het leven. Onderweg leer je ook nog eens over wildplukken. Overnachten doen we in onbemande berghutten. Deze trail vraagt een goede basisconditie. Meer info Boeken[..]
END:VEVENT
END:VCALENDAR