BEGIN:VCALENDAR
VERSION:2.0
PRODID:-//eventon.com NONSGML v1.0//EN
BEGIN:VEVENT
UID:69e5deac51788
DTSTAMP:20260420T100708
DTSTART:20210910T170000Z
DTEND:20210912T130000Z
LOCATION:Veluwe 
SUMMARY:Solo Weekend (nog 1 plek)
DESCRIPTION: 24 uur alleen in de natuur. Dat is de basis van het solo weekend. Het is de ideale manier om tot rust te komen\,  te reflecteren of gewoon even stil te staan bij wie je bent en wat je doet. Meer info Boeken
END:VEVENT
END:VCALENDAR